BEGIN:VCALENDAR
VERSION:2.0
PRODID:-//Stichting Culturele Activiteiten Schalkwijk - ECPv6.15.18//NONSGML v1.0//EN
CALSCALE:GREGORIAN
METHOD:PUBLISH
X-WR-CALNAME:Stichting Culturele Activiteiten Schalkwijk
X-ORIGINAL-URL:https://scas.info
X-WR-CALDESC:Evenementen voor Stichting Culturele Activiteiten Schalkwijk
REFRESH-INTERVAL;VALUE=DURATION:PT1H
X-Robots-Tag:noindex
X-PUBLISHED-TTL:PT1H
BEGIN:VTIMEZONE
TZID:Europe/Amsterdam
BEGIN:DAYLIGHT
TZOFFSETFROM:+0100
TZOFFSETTO:+0200
TZNAME:CEST
DTSTART:20210328T010000
END:DAYLIGHT
BEGIN:STANDARD
TZOFFSETFROM:+0200
TZOFFSETTO:+0100
TZNAME:CET
DTSTART:20211031T010000
END:STANDARD
BEGIN:DAYLIGHT
TZOFFSETFROM:+0100
TZOFFSETTO:+0200
TZNAME:CEST
DTSTART:20220327T010000
END:DAYLIGHT
BEGIN:STANDARD
TZOFFSETFROM:+0200
TZOFFSETTO:+0100
TZNAME:CET
DTSTART:20221030T010000
END:STANDARD
BEGIN:DAYLIGHT
TZOFFSETFROM:+0100
TZOFFSETTO:+0200
TZNAME:CEST
DTSTART:20230326T010000
END:DAYLIGHT
BEGIN:STANDARD
TZOFFSETFROM:+0200
TZOFFSETTO:+0100
TZNAME:CET
DTSTART:20231029T010000
END:STANDARD
BEGIN:DAYLIGHT
TZOFFSETFROM:+0100
TZOFFSETTO:+0200
TZNAME:CEST
DTSTART:20240331T010000
END:DAYLIGHT
BEGIN:STANDARD
TZOFFSETFROM:+0200
TZOFFSETTO:+0100
TZNAME:CET
DTSTART:20241027T010000
END:STANDARD
END:VTIMEZONE
BEGIN:VEVENT
DTSTART;TZID=Europe/Amsterdam:20230914T200000
DTEND;TZID=Europe/Amsterdam:20230914T204500
DTSTAMP:20260420T112042
CREATED:20230907T072617Z
LAST-MODIFIED:20230907T072838Z
UID:1661-1694721600-1694724300@scas.info
SUMMARY:Duo Dufonte
DESCRIPTION:Het nieuwe seizoen ‘Muziek en de kerk’ begint op 14 september met harp en dwarsfluit. Harpiste Hedwig Brieffies geeft samen met Carvalho Perillo op dwarsfluit een zeer gevarieerd concert. Dit duo speelt sinds 2018 samen als ‘Duo Dufonte’ en samen hebben ze verschillende masterclasses gevolgd en regelmatig concerten gegeven. Duo Dufonte werd tweede bij het Rosa Spier Harp Concours.  \n\n\n\nWe zijn heel blij dat we iedereen de kans kunnen geven hun optreden in de  Ontmoetingskerk te komen bekijken en beluisteren.  \n\n\n\n14 september 20.00 – 20.45 uur\, Ontmoetingskerk\, Frankrijklaan 4\, Haarlem Schalkwijk \n\n\n\n–> Vrije toegang. Bij de uitgang is er mogelijkheid tot het doen van een vrijwillige bijdrage.
URL:https://scas.info/agenda/duo-dufonte/
ATTACH;FMTTYPE=image/png:https://scas.info/wp-content/uploads/2023/09/SCAS.png
END:VEVENT
BEGIN:VEVENT
DTSTART;TZID=Europe/Amsterdam:20230608T200000
DTEND;TZID=Europe/Amsterdam:20230608T204500
DTSTAMP:20260420T112042
CREATED:20230228T110743Z
LAST-MODIFIED:20230228T110936Z
UID:1593-1686254400-1686257100@scas.info
SUMMARY:Camile Schneegans en Carlos Marin Rayo
DESCRIPTION:Camille  Schneegans (fluit) en Carlos Marin Rayo (piano) treden regelmatig op als duo na elkaar te hebben ontmoet tijdens hun masterstudie aan het Conservatorium van Amsterdam. Daar werden ze gecoacht door Vincent Cortvrint\, Kersten McCall en Frank van de Laar. \n\n\n\nZeer betrokken sinds het begin van hun repetities\, beschouwen de twee jonge muzikanten hun duo zeker als een artistieke uitdaging\, maar vooral als een menselijke reis. \n\n\n\nGedreven door dezelfde passie voor kamermuziek\, delen Camille en Carlos het liefst momenten op het podium met het publiek. Het cultiveren van de band die ze met elkaar en met het publiek hebben om emoties over te brengen\, is essentieel voor hen. Hun repertoire strekt zich uit over vier eeuwen en ze willen hun muziek graag zoveel mogelijk delen met het publiek. Hun komende boekingen zullen hen naar Frankrijk\, Spanje en Nederland brengen. \n\n\n\nHet concert in de Ontmoetingskerk begint om 20.00 uur en duurt tot 20.45 uur. U bent echter al vanaf 19.30 uur welkom. De toegang is gratis\, maar er wordt wel gevraagd om een vrijwillige bijdrage bij de uitgang.
URL:https://scas.info/agenda/camile-schneegans-en-carlos-marin-rayo/
ATTACH;FMTTYPE=image/jpeg:https://scas.info/wp-content/uploads/2023/02/SCAS.jpg
END:VEVENT
BEGIN:VEVENT
DTSTART;TZID=Europe/Amsterdam:20230511T200000
DTEND;TZID=Europe/Amsterdam:20230511T204500
DTSTAMP:20260420T112042
CREATED:20230228T101855Z
LAST-MODIFIED:20230502T070614Z
UID:1590-1683835200-1683837900@scas.info
SUMMARY:What should we duo
DESCRIPTION:11 mei komt What should we duo in de Ontmoetingskerk. Dit duo bestaat uit twee jonge vrouwen op alt-viool en cello. De violiste Elisa Misas Santín uit Spanje\, speelt nu hier in het Nationaal jeugdorkest. Ze won verschillende prijzen. Ook de celliste Ines López Gallagher won verschillende prijzen. Ze is Iers en studeert nu bij Pieter Wispelwey. Beiden hebben in het Concertgebouw gespeeld en in Konzerthaus Berlin. Dat kan je wel echt jong toptalent noemen. Ze zullen werken spelen van Jean-Baptiste Barrière (1707-1747)\, Max Reger (1873-1916) en Garth Knox (1956-) \n\n\n\n \n\n\n\nHet concert in de Ontmoetingskerk begint om 20.00 uur en duurt tot 20.45 uur. U bent echter al vanaf 19.30 uur welkom. De toegang is gratis\, maar er wordt wel gevraagd om een vrijwillige bijdrage bij de uitgang.
URL:https://scas.info/agenda/irene-piazza-carlos-marin-rayo/
ATTACH;FMTTYPE=image/png:https://scas.info/wp-content/uploads/2023/02/SCAS.png
END:VEVENT
BEGIN:VEVENT
DTSTART;TZID=Europe/Amsterdam:20230413T200000
DTEND;TZID=Europe/Amsterdam:20230413T204500
DTSTAMP:20260420T112042
CREATED:20230228T100333Z
LAST-MODIFIED:20230228T100333Z
UID:1587-1681416000-1681418700@scas.info
SUMMARY:Manon Leroux
DESCRIPTION:Manon Leroux (1997\, Frankrijk) is opgegroeid in een muzikantenfamilie en begon op 4-jarige leeftijd met cello. In 2010 was ze de eerste prijswinnaar van het Vatelot Rempal celloconcours in Parijs. Van 2011 tot 2017 studeerde ze bij Veronique Marin Queyras en Helene Dautry aan de conservatoria van Rueil-Malmaison en Parijs. Na twee jaar in de klas van Maarten Mostert aan het Conservatorium van Amsterdam is Manon gaan studeren bij Pieter Wispelwey\, bij wie ze momenteel haar master doet.  \n\n\n\nHet concert in de Ontmoetingskerk begint om 20.00 uur en duurt tot 20.45 uur. U bent echter al vanaf 19.30 uur welkom. De toegang is gratis\, maar er wordt wel gevraagd om een vrijwillige bijdrage bij de uitgang.
URL:https://scas.info/agenda/manon-leroux/
ATTACH;FMTTYPE=image/png:https://scas.info/wp-content/uploads/2023/02/Copy-of-Schalkwijk-speelt-1.png
END:VEVENT
BEGIN:VEVENT
DTSTART;TZID=Europe/Amsterdam:20230309T200000
DTEND;TZID=Europe/Amsterdam:20230309T204500
DTSTAMP:20260420T112042
CREATED:20230222T145905Z
LAST-MODIFIED:20230222T145906Z
UID:1584-1678392000-1678394700@scas.info
SUMMARY:
DESCRIPTION:Op 9 maart kun je in de Ontmoetingskerk een optreden bijwonen van Chin-Chun Chen op saxofoon\, Vicky Yu-Ping Juo op piano. Deze twee jonge toptalenten spelen stukken van Henri Vieuxtemps\, Giulio Caccini\, Johannes Brahms\, Astor Piazzolla en Alexander Glazunov; een gedurfde keuze qua componisten. Het belooft dan ook een bijzonder concert te worden. \n\n\n\nChi-Chun komt uit Taiwan\, waar hij het conservatorium heeft gedaan. Hij volgt nu de masteropleiding in Amsterdam. Hij heeft verschillende prijzen gewonnen en met een paar ensembles opgetreden. In Nederland heeft hij opgetreden in het Concertgebouw. \n\n\n\nDe pianiste\, Vicky Yu-Ping Juo\, heeft al veel optredens gegeven in Nederland en ook zij heeft verschillende prijzen gewonnen. Net als Chi-Chun heeft ze in haar geboorteland het conservatorium afgerond en volgt ze nu in Amsterdam haar Masteropleiding.
URL:https://scas.info/agenda/1584/
ATTACH;FMTTYPE=image/png:https://scas.info/wp-content/uploads/2023/02/Copy-of-Schalkwijk-speelt.png
END:VEVENT
BEGIN:VEVENT
DTSTART;TZID=Europe/Amsterdam:20230210T193000
DTEND;TZID=Europe/Amsterdam:20230210T193000
DTSTAMP:20260420T112042
CREATED:20230118T131950Z
LAST-MODIFIED:20230118T132033Z
UID:1576-1676057400-1676057400@scas.info
SUMMARY:Haarlems eenakterfestival ENAK
DESCRIPTION:Samen met een aantal professionele en semi-professionele theatermakers werd het idee voor ENAK\, een Haarlems eenakterfestival bedacht en opgezet.  Drie dagen lang korte theatervoorstellingen die de bezoekers vermaken en ontroeren\, kennis laten maken en mee doen leven met gewone en ongewone mensen die soms op ons lijken en soms ook weer (met) niet. \n\n\n\nHet festival vindt plaats op vrijdag 10\, zaterdag 11 en zondag 12 februari 2023 . Kom je ook naar de eerste editie van het Haarlemse eenakterfestival ENAK ? \n\n\n\n \n\n\n\nLocatie\n\n\n\nENAK vindt plaats in de WereldMuziekSchool (in Centrum Schalkwijk).  De publieksingang bevindt zich aan de Casablancastraat 6a (achteringang WereldMuziekSchool bij het laad en los gedeelte achter Stomerij ‘Propershop’) \n\n\n\n \n\n\n\nTickets\n\n\n\nOp festivaldagen opent de zaal drie kwartier voor aanvang van de eerste voorstelling van die dag. Kaarten kunnen uitsluitend aan de zaal worden gekocht tegen contante betaling. Entreeprijzen: vrijdag 5 euro\, zaterdag 7 euro en zondag 5 euro. Alleen op vrijdag kan een passe-partout voor alle voorstellingen worden gekocht voor 15 euro. \n\n\n\n \n\n\n\nProgramma\n\n\n\nVrijdag 10 februari 202319.30 uur Arum dem Fayer – De Warmte van het Joodse lied (75 minuten)Zang\, muziek en spel: Ksenia Marasonova \n\n\n\nZaterdag 11 februari 202319.00 uur Ontvlambaar (60 minuten)Zang en spel: Willem van der Cruysen\, Tijn Lourens\, Nanneke Piek\, Peter van Wolferen en Rogier Monsieur20.30 uur Niets dan goeds (60 minuten)Spel: Boris-Johannes De Keyser21.45 uur De Binnenkomst (45 minuten)Spel: Ida van de Lagemaat en Rob van Weegen \n\n\n\nZondag 12 februari 202314.30 uur Thee (30 minuten)Spel: Ivana Gutierez en Margreet Feenstra15.15 uur Minnaars en verliezers (20 minuten)Spel: Sterre van der Hoofd en Enrico Henneman
URL:https://scas.info/agenda/haarlems-eenakterfestival-enak/
ATTACH;FMTTYPE=image/png:https://scas.info/wp-content/uploads/2023/01/Copy-of-Schalkwijk-speelt.png
END:VEVENT
BEGIN:VEVENT
DTSTART;TZID=Europe/Amsterdam:20230209T200000
DTEND;TZID=Europe/Amsterdam:20230209T204500
DTSTAMP:20260420T112042
CREATED:20230201T120447Z
LAST-MODIFIED:20230201T120448Z
UID:1580-1675972800-1675975500@scas.info
SUMMARY:Muziek in de Ontmoetingskerk
DESCRIPTION:Donderdag 9 februari is er weer een mooi concert te beluisteren in de Ontmoetingskerk.  \n\n\n\nViolist Neil Dixon heeft onder meer opgetreden in Zwitserland\, Hongarije\, Engeland en natuurlijk in Nederland. Hij volgde ook masterclasses in verschillende Europese landen. \n\n\n\nAltviolist Fiachra dOra is geboren in Dublin\, heeft zowel in Ierland als in Noord-Ierland opgetreden. Ook maakte hij een tour door Portugal met het Sphere String Quartet. \n\n\n\nAls je vaker de concerten in de Ontmoetingskerk hebt bezocht\, ken je deze twee muzikanten misschien. Ze waren er vorig jaar april ook en daar hebben we goede herinneringen aan.  We kijken dan ook uit naar het concert op 9 februari\, waar de heren weer werken zullen spelen van  Mozart\, Händel en Schubert. \n\n\n\nHet concert is van 20.00-20.45 uur\, maar je bent welkom vanaf 19.30 uur.  \n\n\n\n \n\n\n\n–> Ontmoetingskerk\, Frankrijklaan 4.  \n\n\n\n–> Het concert is vrij toegankelijk\, maar een vrijwillige bijdrage wordt op prijs gesteld (bij de uitgang).
URL:https://scas.info/agenda/muziek-in-de-ontmoetingskerk/
ATTACH;FMTTYPE=image/png:https://scas.info/wp-content/uploads/2023/02/Copy-of-Schalkwijk-speelt-2.png
END:VEVENT
BEGIN:VEVENT
DTSTART;TZID=Europe/Amsterdam:20230121T140000
DTEND;TZID=Europe/Amsterdam:20230121T150000
DTSTAMP:20260420T112042
CREATED:20230118T111012Z
LAST-MODIFIED:20230118T111126Z
UID:1571-1674309600-1674313200@scas.info
SUMMARY:Risata Kwartet
DESCRIPTION:Het Risata Strijkkwartet speelt al een aantal jaren en is ontstaan in het Frysk Jeugd Orkest. Hier werd de passie voor muziek maken tussen de de kwartet-leden gedeeld en zijn ze begonnen met het spelen in een kleinere bezetting. \n\n\n\nRisata betekent ‘lachend’. Het uiteindelijke doel van Risata is dan ook: plezier hebben met samenspelen en dit overbrengen op een podium. Vol enthousiasme spelen ze de muziek en dagen ze zichzelf uit door bijvoorbeeld romantische klassieke muziek af te wisselen met pop- en balkannummers die speciaal voor onze bezetting worden omgeschreven.  \n\n\n\nJe kunt in Centrum Schalkwijk naar het optreden van dit bruisende strijkkwartet luisteren op zaterdag 21 januari om 14.00 uur (Voor de Wereldmuziekschool)
URL:https://scas.info/agenda/1571/
ATTACH;FMTTYPE=image/png:https://scas.info/wp-content/uploads/2023/01/risata.png
END:VEVENT
BEGIN:VEVENT
DTSTART;TZID=Europe/Amsterdam:20221210T140000
DTEND;TZID=Europe/Amsterdam:20221210T153000
DTSTAMP:20260420T112042
CREATED:20221102T135535Z
LAST-MODIFIED:20230118T111117Z
UID:1567-1670680800-1670686200@scas.info
SUMMARY:Eva de Wilde kwartet
DESCRIPTION:Op 10 december treedt in Centrum Schalkwijk het Eva de Wilde kwartet op. Het kwartet bestaat uit contrabas (Anna Zavorina)\, piano (Saba Okujava)\, drums (Eloi Pascual) en zang (Eva de Wilde). Eva zal bovendien een aantal nummers op trompet spelen.  Eva de Wilde is een jazzmuzikant met een liefde voor mooie melodieën die ze doormiddel van haar heldere stem en lichte\, soepele trompetgeluid ten gehore brengt. Samen met haar Quartet speelt ze met name jazz standerds met soms een uitstapje naar de soul/funk wereld.    –> zaterdag 10 december vanaf 14.00 uur
URL:https://scas.info/agenda/eva-de-wilde-kwarter/
ATTACH;FMTTYPE=image/png:https://scas.info/wp-content/uploads/2022/11/Copy-of-Copy-of-Copy-of-Copy-of-Copy-of-paul-en-karin-5.png
END:VEVENT
BEGIN:VEVENT
DTSTART;TZID=Europe/Amsterdam:20221126T140000
DTEND;TZID=Europe/Amsterdam:20221126T150000
DTSTAMP:20260420T112042
CREATED:20221027T105632Z
LAST-MODIFIED:20221027T105633Z
UID:1564-1669471200-1669474800@scas.info
SUMMARY:R&G Tango Duo
DESCRIPTION:Robin El-Hage (piano) en Gustavo Cabrera (viool) zijn twee professionele musici. Samen vormen zij het R&G Tango Duo dat Argentijnse tango’s op een unieke geïmproviseerde wijze ten gehore brengt. Bij dit duo krijg je het hele spectrum van de Argentijnse volksmuziek te horen. Van romantisch tot ritmisch en van Carlos Gardel tot aan Astor Piazzolla. De speelse interactie en aanstekelijke muzikaliteit is de sleutel van hun succes. \n\n\n\nHet optreden is gratis bij te wonen op het middenplein van Centrum Schalkwijk
URL:https://scas.info/agenda/rg-tango-duo/
ATTACH;FMTTYPE=image/png:https://scas.info/wp-content/uploads/2022/10/Copy-of-Copy-of-Copy-of-Copy-of-Copy-of-paul-en-karin-4.png
END:VEVENT
BEGIN:VEVENT
DTSTART;TZID=Europe/Amsterdam:20220910T140000
DTEND;TZID=Europe/Amsterdam:20220910T150000
DTSTAMP:20260420T112042
CREATED:20220902T095416Z
LAST-MODIFIED:20220902T095417Z
UID:1554-1662818400-1662822000@scas.info
SUMMARY:Martin Diaz Quartet
DESCRIPTION:Onder de naam Martin Diaz Quartet\, spelen vier muzikanten op 10 september in Centrum Schalkwijk traditionele jazz nummers. De bandleden komen uit Spanje\, Duitsland en Noorwegen en ontmoetten elkaar in de Amsterdamse jazz-scene en speelden inmiddels op voor dit genre bekende plekken zoals Bimhuis en de Kring. \n\n\n\nDe band hoopt met hun muziek te bereiken dat luisteraars dezelfde liefde ervaren voor Jazz  als zij zelf . \n\n\n\nBand leden: \n\n\n\nMartin Díaz – Alt Sax \n\n\n\nJoan Fort – Gitaar \n\n\n\nPhillip Lewin– Contrabas \n\n\n\nMagnus Austad – Drum
URL:https://scas.info/agenda/martin-diaz-quartet/
ATTACH;FMTTYPE=image/png:https://scas.info/wp-content/uploads/2022/09/Copy-of-Copy-of-Copy-of-Copy-of-Copy-of-paul-en-karin-3.png
END:VEVENT
BEGIN:VEVENT
DTSTART;TZID=Europe/Amsterdam:20220908T200000
DTEND;TZID=Europe/Amsterdam:20220908T204500
DTSTAMP:20260420T112042
CREATED:20220907T110744Z
LAST-MODIFIED:20220907T110745Z
UID:1558-1662667200-1662669900@scas.info
SUMMARY:Lionel Lutgen
DESCRIPTION:Veelzijdig gitarist Lionel Lutgen is op 8 september te gast in de Ontmoetingskerk. Lionel speelt op een klassieke gitaar en zal werk van Manuel Ponce en H. Villa Lobos e.a. uitvoeren. \n\n\n\nZijn masterstudie heeft Lionel net afgerond en wel op 2 terreinen: gitaar en kamermuziek. Lionel blijkt helemaal een veelzijdig musicus\, hij heeft met het Nationaal Jeugdorkest in een theater-musical gespeeld en heeft hij ‘op de planken’ gestaan in de Stopera voor een Nederlandse opera: “Het lied van de maan”.  \n\n\n\nLionel zoekt naar cross-overs van muziek en andere kunstvormen\, zo combineert hij zijn muziek onder meer met film en verhalen. Sinds 2018 is Lionel eerste gitarist bij het Kwartet Pagaille\, tegelijkertijd is hij directeur van het festival: “Guitares en Pagaille”. \n\n\n\nHet concert begint om 20.00 uur en zal ongeveer 3 kwartier duren. Vrije toegang\, maar een bijdrage wordt erg op prijs gesteld. \n\n\n\n \n\n\n\n \n\n\n\nOntmoetingskerk \, Frankrijk laan 4\, Haarlem (Schalkwijk)
URL:https://scas.info/agenda/lionel-lutgen/
ATTACH;FMTTYPE=image/jpeg:https://scas.info/wp-content/uploads/2022/09/lionel-002-1.jpg
END:VEVENT
BEGIN:VEVENT
DTSTART;TZID=Europe/Amsterdam:20220904T120000
DTEND;TZID=Europe/Amsterdam:20220904T180000
DTSTAMP:20260420T112042
CREATED:20220624T094219Z
LAST-MODIFIED:20220624T094349Z
UID:1464-1662292800-1662314400@scas.info
SUMMARY:Schalkwijk aan Zee 2022
DESCRIPTION:Op zondag 4 september kun je je tussen 12:00 en 18:00 uur weer uitleven op het leukste GRATIS festival aan het water met dit jaar een meer afwisselend programma dan ooit. Er is muziek en theater\, maar ook voor sport\, spel\, creativiteit en het zelf actief deelnemen aan activiteiten is Schalkwijk aan Zee the place to be. Wat dacht je van een creatieve workshop\, lekker dansen tijdens de silent disco\, zweven in met onze zweefmolen of een tochtje in een boot? En natuurlijk kun je ook dit jaar weer lekker struinen langs vele kraampjes en foodtrucks. \n  \n 
URL:https://scas.info/agenda/schalkwijk-aan-zee-2022/
LOCATION:Molenplaspark Haarlem Schalkwijk
ATTACH;FMTTYPE=image/png:https://scas.info/wp-content/uploads/2022/06/schalkwijk-aan-zee-2021-Banner-Landscape-2.png
END:VEVENT
BEGIN:VEVENT
DTSTART;TZID=Europe/Amsterdam:20220709T140000
DTEND;TZID=Europe/Amsterdam:20220709T150000
DTSTAMP:20260420T112042
CREATED:20220615T112105Z
LAST-MODIFIED:20220627T094841Z
UID:1420-1657375200-1657378800@scas.info
SUMMARY:Jazzy Schalkwijk
DESCRIPTION:Beïnvloed door jazz\, fusion en klassieke muziek zet het Daan Sanders Trio een sfeer neer die doet denken aan de zwoele popcovers van Brad Mehldau en de ruige speelsheid van Kurt Rosenwinkel. Met Julian Wittich op contrabas\, Miklós Kovács op drums en Daan Sanders op piano\, speelt het Daan Sanders Trio op subtiele wijze met grooves\, swing en crescendo’s; van originals tot Stevie Wonder\, van jazz-standards tot moderne Bach. \nDATUM: 9 juli 2022 \nTIJD: 14.00 uur \nLOCATIE: Centrum Schalkwijk – op het middenplein
URL:https://scas.info/agenda/jazzy-schalkwijk/
LOCATION:Centrum Schalkwijk
ATTACH;FMTTYPE=image/png:https://scas.info/wp-content/uploads/2022/06/Copy-of-Copy-of-Copy-of-Copy-of-Copy-of-paul-en-karin-5-1.png
END:VEVENT
END:VCALENDAR