BEGIN:VCALENDAR
VERSION:2.0
PRODID:-//Stichting Culturele Activiteiten Schalkwijk - ECPv6.15.18//NONSGML v1.0//EN
CALSCALE:GREGORIAN
METHOD:PUBLISH
X-WR-CALNAME:Stichting Culturele Activiteiten Schalkwijk
X-ORIGINAL-URL:https://scas.info
X-WR-CALDESC:Evenementen voor Stichting Culturele Activiteiten Schalkwijk
REFRESH-INTERVAL;VALUE=DURATION:PT1H
X-Robots-Tag:noindex
X-PUBLISHED-TTL:PT1H
BEGIN:VTIMEZONE
TZID:Europe/Amsterdam
BEGIN:DAYLIGHT
TZOFFSETFROM:+0100
TZOFFSETTO:+0200
TZNAME:CEST
DTSTART:20210328T010000
END:DAYLIGHT
BEGIN:STANDARD
TZOFFSETFROM:+0200
TZOFFSETTO:+0100
TZNAME:CET
DTSTART:20211031T010000
END:STANDARD
BEGIN:DAYLIGHT
TZOFFSETFROM:+0100
TZOFFSETTO:+0200
TZNAME:CEST
DTSTART:20220327T010000
END:DAYLIGHT
BEGIN:STANDARD
TZOFFSETFROM:+0200
TZOFFSETTO:+0100
TZNAME:CET
DTSTART:20221030T010000
END:STANDARD
BEGIN:DAYLIGHT
TZOFFSETFROM:+0100
TZOFFSETTO:+0200
TZNAME:CEST
DTSTART:20230326T010000
END:DAYLIGHT
BEGIN:STANDARD
TZOFFSETFROM:+0200
TZOFFSETTO:+0100
TZNAME:CET
DTSTART:20231029T010000
END:STANDARD
END:VTIMEZONE
BEGIN:VEVENT
DTSTART;TZID=Europe/Amsterdam:20220904T120000
DTEND;TZID=Europe/Amsterdam:20220904T180000
DTSTAMP:20260420T141117
CREATED:20220624T094219Z
LAST-MODIFIED:20220624T094349Z
UID:1464-1662292800-1662314400@scas.info
SUMMARY:Schalkwijk aan Zee 2022
DESCRIPTION:Op zondag 4 september kun je je tussen 12:00 en 18:00 uur weer uitleven op het leukste GRATIS festival aan het water met dit jaar een meer afwisselend programma dan ooit. Er is muziek en theater\, maar ook voor sport\, spel\, creativiteit en het zelf actief deelnemen aan activiteiten is Schalkwijk aan Zee the place to be. Wat dacht je van een creatieve workshop\, lekker dansen tijdens de silent disco\, zweven in met onze zweefmolen of een tochtje in een boot? En natuurlijk kun je ook dit jaar weer lekker struinen langs vele kraampjes en foodtrucks. \n  \n 
URL:https://scas.info/agenda/schalkwijk-aan-zee-2022/
LOCATION:Molenplaspark Haarlem Schalkwijk
ATTACH;FMTTYPE=image/png:https://scas.info/wp-content/uploads/2022/06/schalkwijk-aan-zee-2021-Banner-Landscape-2.png
END:VEVENT
END:VCALENDAR